BEGIN:VCALENDAR
VERSION:2.0
PRODID:-//Cirkusbygningen - ECPv6.15.20//NONSGML v1.0//EN
CALSCALE:GREGORIAN
METHOD:PUBLISH
X-WR-CALNAME:Cirkusbygningen
X-ORIGINAL-URL:https://cirkusbygningen.dk
X-WR-CALDESC:Begivenheder for Cirkusbygningen
REFRESH-INTERVAL;VALUE=DURATION:PT1H
X-Robots-Tag:noindex
X-PUBLISHED-TTL:PT1H
BEGIN:VTIMEZONE
TZID:Europe/Stockholm
BEGIN:DAYLIGHT
TZOFFSETFROM:+0100
TZOFFSETTO:+0200
TZNAME:CEST
DTSTART:20250330T010000
END:DAYLIGHT
BEGIN:STANDARD
TZOFFSETFROM:+0200
TZOFFSETTO:+0100
TZNAME:CET
DTSTART:20251026T010000
END:STANDARD
BEGIN:DAYLIGHT
TZOFFSETFROM:+0100
TZOFFSETTO:+0200
TZNAME:CEST
DTSTART:20260329T010000
END:DAYLIGHT
BEGIN:STANDARD
TZOFFSETFROM:+0200
TZOFFSETTO:+0100
TZNAME:CET
DTSTART:20261025T010000
END:STANDARD
BEGIN:DAYLIGHT
TZOFFSETFROM:+0100
TZOFFSETTO:+0200
TZNAME:CEST
DTSTART:20270328T010000
END:DAYLIGHT
BEGIN:STANDARD
TZOFFSETFROM:+0200
TZOFFSETTO:+0100
TZNAME:CET
DTSTART:20271031T010000
END:STANDARD
END:VTIMEZONE
BEGIN:VEVENT
DTSTART;TZID=Europe/Stockholm:20260511T150000
DTEND;TZID=Europe/Stockholm:20260511T160000
DTSTAMP:20260425T180946
CREATED:20260413T111245Z
LAST-MODIFIED:20260424T150254Z
UID:10001967-1778511600-1778515200@cirkusbygningen.dk
SUMMARY:Rundvisning - Verner Panton
DESCRIPTION:404Oplev Verner Pantons ikoniske farveunivers i CirkusbygningenSom en del af Cirkusbygningens 140-års jubilæum åbner vi dørene til huset med guidede rundvisninger – her den 11. maj med fokus på Verner Panton i foyerområderne. \nTræd indenfor i Cirkusbygningens ikoniske farveunivers. \nPå denne rundvisning inviterer vi dig ind i Verner Pantons arbejde med farver\, former og rum – og hans vision for Cirkusbygningen som oplevelse. \nDu får indblik i\, hvordan design og arkitektur smelter sammen og skaber en stemning\, der ikke bare ses – men mærkes. \nI 1984 satte Verner Panton sit markante præg på Cirkusbygningen med et unikt farve- og lyskoncept\, som i dag er en del af bygningens identitet. I 2025 er foyerområderne nænsomt genskabt i Pantons originale univers – i tæt samarbejde med Verner Panton Design AG og Lundgaard & Tranberg Arkitekter. \nRundvisningen foregår i Cirkusbygningens foyerområder og ledes af Signe Baadsgaard fra Lundgaard & Tranberg Arkitekter\, som har været tæt på arbejdet med restaureringen. \nAlle gæster bydes velkommen med et glas bobler. \nBegrænset antal pladser – max. 50 personer pr. rundvisning. \nBook rundvisningPraktisk informationDato for event\nMandag den 11. maj 2026 \nTidspunkt\nKl. 15.00 – 16.00 \nProgramKl. 14.50\nDørene åbner\n \nKl. 15.00\nDørene lukker – rundvisning med Signe Baadsgaard\, arkitekt og partner hos Lundgaard & Tranberg Arkitekter. \nKl. 16.00\nTak for i dag! \nVi tager forbehold for ændringer i programmet \nBook billetter+45 3316 3700\nbooking@cirkusbygningen.dk \nBilletsalget stopper mandag den 10. maj kl. 16.00. \nBook rundvisningVend tilbage til eventkalender
URL:https://cirkusbygningen.dk/event/rundvisning-verner-panton/
ATTACH;FMTTYPE=image/jpeg:https://cirkusbygningen.dk/wp-content/uploads/2026/04/verner-panton-scaled.jpg
END:VEVENT
BEGIN:VEVENT
DTSTART;TZID=Europe/Stockholm:20260511T160000
DTEND;TZID=Europe/Stockholm:20260511T170000
DTSTAMP:20260425T180946
CREATED:20260424T145608Z
LAST-MODIFIED:20260424T150219Z
UID:10001966-1778515200-1778518800@cirkusbygningen.dk
SUMMARY:Rundvisning - Verner Panton
DESCRIPTION:404Oplev Verner Pantons ikoniske farveunivers i CirkusbygningenSom en del af Cirkusbygningens 140-års jubilæum åbner vi dørene til huset med guidede rundvisninger – her den 11. maj med fokus på Verner Panton i foyerområderne. \nTræd indenfor i Cirkusbygningens ikoniske farveunivers. \nPå denne rundvisning inviterer vi dig ind i Verner Pantons arbejde med farver\, former og rum – og hans vision for Cirkusbygningen som oplevelse. \nDu får indblik i\, hvordan design og arkitektur smelter sammen og skaber en stemning\, der ikke bare ses – men mærkes. \nI 1984 satte Verner Panton sit markante præg på Cirkusbygningen med et unikt farve- og lyskoncept\, som i dag er en del af bygningens identitet. I 2025 er foyerområderne nænsomt genskabt i Pantons originale univers – i tæt samarbejde med Verner Panton Design AG og Lundgaard & Tranberg Arkitekter. \nRundvisningen foregår i Cirkusbygningens foyerområder og ledes af Signe Baadsgaard fra Lundgaard & Tranberg Arkitekter\, som har været tæt på arbejdet med restaureringen. \nAlle gæster bydes velkommen med et glas bobler. \nBegrænset antal pladser – max. 50 personer pr. rundvisning. \nBook rundvisningPraktisk informationDato for event\nMandag den 11. maj 2026 \nTidspunkt\nKl. 17.00 – 18.00 \nProgramKl. 16.50\nDørene åbner \nKl. 17.00\nDørene lukker – rundvisning med Signe Baadsgaard\, arkitekt og partner hos Lundgaard & Tranberg Arkitekter. \nKl. 18.00\nTak for i dag! \nVi tager forbehold for ændringer i programmet \nBook billetter+45 3316 3700\nbooking@cirkusbygningen.dk \nBilletsalget stopper mandag den 10. maj kl. 16.00. \nBook rundvisningVend tilbage til eventkalender
URL:https://cirkusbygningen.dk/event/rundvisning-verner-panton-2/
ATTACH;FMTTYPE=image/jpeg:https://cirkusbygningen.dk/wp-content/uploads/2026/04/verner-panton-scaled.jpg
END:VEVENT
END:VCALENDAR